BEGIN:VCALENDAR
VERSION:2.0
PRODID:-//Plone.org//NONSGML plone.app.event//EN
X-WR-TIMEZONE:Europe/Madrid
BEGIN:VEVENT
SUMMARY:Taller d'orientació professional. Full de ruta cap a la teva fein
 a: del CV a l'èxit en l'entrevista
DTSTART;TZID=Europe/Madrid:20260427T120000
DTEND;TZID=Europe/Madrid:20260427T140000
DTSTAMP:20260424T190552Z
UID:0e62cc93b20a437f83a21a4f72b1231b@alumni.upc.edu
CREATED:20260408T085752Z
DESCRIPTION:En aquest taller treballareu dues de les etapes fonamentals de
 l procés de cerca de feina. El primer contacte mitjançant el currículum
  i l'entrevista com a culminació del procés. Sessió en línia amb inscr
 ipció prèvia
LAST-MODIFIED:20260423T110244Z
LOCATION:Edifici Vèrtex
URL:https://alumni.upc.edu/ca/esdeveniments/tallers/del-curriculum-a-lentr
 evista
END:VEVENT
BEGIN:VEVENT
SUMMARY:Prepara't per al Fòrum d'Empreses ESEIAAT 2026
DTSTART;TZID=Europe/Madrid:20260429T120000
DTEND;TZID=Europe/Madrid:20260429T140000
DTSTAMP:20260424T190552Z
UID:524b03da760a4cc798f4b3881391adb4@alumni.upc.edu
CONTACT:https://eseiaat.upc.edu/ca/empresa/forum-empreses
CREATED:20260423T114235Z
DESCRIPTION:Aprèn a redactar el teu currículum de forma eficaç i atract
 iva per aconseguir una presentació més potent i treballa la teva marca p
 ersonal.
LAST-MODIFIED:20260423T114303Z
LOCATION:Sala d'actes edifici TR1\, colom 1\, Terrassa
URL:https://alumni.upc.edu/ca/esdeveniments/tallers/preparat-per-al-forum-
 dempreses-eseiaat-2026
END:VEVENT
BEGIN:VEVENT
SUMMARY:Full de ruta per a la teva carrera: de la universitat al món labo
 ral
DTSTART;TZID=Europe/Madrid:20260430T120000
DTEND;TZID=Europe/Madrid:20260430T140000
DTSTAMP:20260424T190552Z
UID:d235ec97100748b1a197937c87a108e0@alumni.upc.edu
CREATED:20260420T103512Z
DESCRIPTION:Defineix el teu itinerari professional i aprèn a gestionar la
  cerca de pràctiques o feina com un projecte d'enginyeria.
LAST-MODIFIED:20260420T103544Z
URL:https://alumni.upc.edu/ca/esdeveniments/tallers/full-de-ruta-per-a-la-
 teva-carrera-de-la-universitat-al-mon-laboral
END:VEVENT
BEGIN:VEVENT
SUMMARY:Participa en el Face2Face: el Fòrum d'empreses de l'EPSEVG
DTSTART;VALUE=DATE:20260506
DTEND;VALUE=DATE:20260508
DTSTAMP:20260424T190552Z
UID:7d697acb36794d189ddfc54606bf8ba3@alumni.upc.edu
CONTACT:https://epsevg.upc.edu/ca/actes/face2face?set_language=ca
CREATED:20260424T113108Z
DESCRIPTION:Un espai dinàmic on el talent universitari i el teixit empres
 arial es miren cara a cara per crear oportunitats reals.
LAST-MODIFIED:20260424T113430Z
URL:https://alumni.upc.edu/ca/esdeveniments/tallers/participa-el-face2face
 -el-forum-dempreses-de-lepsevg
END:VEVENT
BEGIN:VEVENT
SUMMARY:Engineering for Mobility.    Jornada sobre la IA aplicada a Automo
 ció
DTSTART;TZID=Europe/Madrid:20260512T180000
DTEND;TZID=Europe/Madrid:20260512T190000
DTSTAMP:20260424T190552Z
UID:3f56909e47194b97b8f5a73d91c7cf27@alumni.upc.edu
CONTACT:https://alumnimes.upc.edu/events/347
CREATED:20260422T101706Z
DESCRIPTION:Una taula rodona exclusiva on experts de les principals empres
 es del sector debatran sobre com la Intel·ligència Artificial i el Big D
 ata estan transformant el disseny\, la qualitat i el futur dels vehicles. 
 Descobreix de primera mà els reptes tecnològics que ja estan canviant l'
 enginyeria d'automoció.\nFinalment\, participa en l'espai de Networking l
 liure per parlar amb els assistents.
LAST-MODIFIED:20260423T100200Z
LOCATION:Sala d'actes de l'ETSEIB
URL:https://alumni.upc.edu/ca/esdeveniments/jornada-sobre-la-ia-aplicada-a
 -automocio
END:VEVENT
BEGIN:VEVENT
SUMMARY:Taller d'orientació professional: Connectant Nodes. El networking
  com a motor de la teva carrera.
DTSTART;TZID=Europe/Madrid:20260519T120000
DTEND;TZID=Europe/Madrid:20260519T140000
DTSTAMP:20260424T190552Z
UID:01b12f40a4bf4ca591d6d9643405b8d5@alumni.upc.edu
CONTACT:Servei de Carreres Professionals d'UPC Alumni.\, info.alumni@upc.e
 du
CREATED:20201117T173413Z
DESCRIPTION:En un entorn tecnològic altament competitiu\, no n'hi ha prou
  amb tenir el millor expedient\; cal saber ser visible i connectar amb els
  nodes clau del sector. Aquesta sessió pràctica t'ensenyarà a transform
 ar el teu perfil de LinkedIn en un imant d'oportunitats i a gestionar el n
 etworking com una eina estratègica de creixement. Aprendràs a moure't am
 b seguretat pel mercat laboral i a construir una xarxa de contactes que im
 pulsi la teva carrera a llarg termini.
LAST-MODIFIED:20260423T100351Z
LOCATION:Webinar
URL:https://alumni.upc.edu/ca/esdeveniments/tallers/copy_of_linkedin-optim
 itza-el-teu-networking-gener
END:VEVENT
BEGIN:VTIMEZONE
TZID:Europe/Madrid
X-LIC-LOCATION:Europe/Madrid
BEGIN:DAYLIGHT
DTSTART:20260329T030000
TZNAME:CEST
TZOFFSETFROM:+0100
TZOFFSETTO:+0200
END:DAYLIGHT
END:VTIMEZONE
END:VCALENDAR
