BEGIN:VCALENDAR
VERSION:2.0
PRODID:-//Plone.org//NONSGML plone.app.event//EN
X-WR-TIMEZONE:Europe/Madrid
BEGIN:VEVENT
SUMMARY:Networking Talent Day - Arquitectura\, urbanisme i edificació
DTSTART;TZID=Europe/Madrid:20221013T110000
DTEND;TZID=Europe/Madrid:20221013T180000
DTSTAMP:20260420T043536Z
UID:a5f5705d5ef948f68672ad52ea74404c@alumni.upc.edu
CONTACT:934015673\, carreresprofessionals.alumni@upc.edu
CREATED:20220907T074205Z
DESCRIPTION:Participa en aquest esdeveniment de networking que facilita el
  contacte entre empreses/institucions i professionals que es formen a la U
 PC.
LAST-MODIFIED:20221028T193930Z
LOCATION:ETSAB\, Av. Diagonal\, 649.
URL:https://alumni.upc.edu/ca/esdeveniments/ntd/ntd-arquitectura
END:VEVENT
BEGIN:VTIMEZONE
TZID:Europe/Madrid
X-LIC-LOCATION:Europe/Madrid
BEGIN:DAYLIGHT
DTSTART:20220327T030000
TZNAME:CEST
TZOFFSETFROM:+0100
TZOFFSETTO:+0200
END:DAYLIGHT
END:VTIMEZONE
END:VCALENDAR
